BEGIN:VCALENDAR
VERSION:2.0
PRODID:-//Religions for Peace Europe - ECPv6.15.17.1//NONSGML v1.0//EN
CALSCALE:GREGORIAN
METHOD:PUBLISH
X-WR-CALNAME:Religions for Peace Europe
X-ORIGINAL-URL:https://rfpeurope.org
X-WR-CALDESC:Events for Religions for Peace Europe
REFRESH-INTERVAL;VALUE=DURATION:PT1H
X-Robots-Tag:noindex
X-PUBLISHED-TTL:PT1H
BEGIN:VTIMEZONE
TZID:UTC
BEGIN:STANDARD
TZOFFSETFROM:+0000
TZOFFSETTO:+0000
TZNAME:UTC
DTSTART:20200101T000000
END:STANDARD
END:VTIMEZONE
BEGIN:VEVENT
DTSTART;VALUE=DATE:20220204
DTEND;VALUE=DATE:20220206
DTSTAMP:20260423T024426
CREATED:20220128T153411Z
LAST-MODIFIED:20220128T213154Z
UID:809-1643932800-1644105599@rfpeurope.org
SUMMARY:Hindu - Sarasvati Puja/Vasant Panchami
DESCRIPTION:Widely celebrated in North India\, this festival marks the beginning of spring.  For Hindus it is usually linked with Saraswati\, the goddess of learning and the arts.  Yellow is her associated colour.
URL:https://rfpeurope.org/calendar/hindu-sarasvati-puja-vasant-panchami/
CATEGORIES:Homepage Events
ATTACH;FMTTYPE=image/jpeg:https://rfpeurope.org/wp-content/uploads/2022/01/pexels-rahul-genie-9904375-1-e1643405502179.jpg
END:VEVENT
BEGIN:VEVENT
DTSTART;TZID=UTC:20220118T080000
DTEND;TZID=UTC:20220118T170000
DTSTAMP:20260423T024426
CREATED:20220118T181529Z
LAST-MODIFIED:20220118T181612Z
UID:728-1642492800-1642525200@rfpeurope.org
SUMMARY:Sikh - Guru Gobindh Singh Jayanti birthday
DESCRIPTION:The tenth and last guru of Sikhs was born in Patna on December 22\, 1666\, Bihar in the Sodhi Khatri family. His birth anniversary\, also known as Prakash Parv\, is observed every year according to Nanakshahi calendar between the months of December and January. On this day\, devotees from all around the world send best wishes to one another and vow to follow the teachings and the path of Guru Gobind Singh Ji. Guru Gobind Singh Ji\, born as Gobind Rai\, was the tenth Sikh Guru\, a spiritual leader\, warrior\, poet and philosopher. \nThere are controversies among Sikhs surrounding the date and hence the day to mark the Jayanti is now decided each year. In 2022 this will be the 9th of January.
URL:https://rfpeurope.org/calendar/sikh-guru-gobindh-singh-birthday/
CATEGORIES:Homepage Events
ATTACH;FMTTYPE=image/jpeg:https://rfpeurope.org/wp-content/uploads/2022/01/Guru_Gobind_Singh_Ji_Jayanti_2021.jpg
END:VEVENT
BEGIN:VEVENT
DTSTART;TZID=UTC:20220114T050000
DTEND;TZID=UTC:20220114T220000
DTSTAMP:20260423T024426
CREATED:20220102T184024Z
LAST-MODIFIED:20220118T185500Z
UID:745-1642136400-1642197600@rfpeurope.org
SUMMARY:Hindu and Sikh - Maghi
DESCRIPTION:Maghi is the regional name of the Hindu festival of Makar Sankranti celebrated in Punjab and Himachal Pradesh. In Himachal\, the festival is also known as Maghi Saaji or Magha Ra Saza. In Bihar and Nepal it is also referred to as Maghi Parva or Maghi Sankranti. Maghi is celebrated on first day of the month of Magh of Hindu Calendar. It follows on the heels of the mid-winter festival of Lohri which is marked by bonfires in North Indian fields and yards. The next morning Hindus see as an auspicious occasion for ritual bathing in ponds and rivers. \nFor Sikhs it is a community gathering to commemorate martyrdom of forty Sikhs (Chalis Mukte) who once had deserted the tenth and last human Guru of Sikhism\, Guru Gobind Singh at Anandpur Sahib\, but later rejoined the Guru and died while fighting the Mughal Empire army led by Wazir Khan in 1705. Sikhs make a pilgrimage to the site of the war\, and take a dip in the sacred water tanks of Muktsar. \nA fair (mela) is held at Muktsar Sahib every year and called the Mela Maghi is held in memory of the forty Sikh martyrs. Before this tradition started to commemorate the Sikh martyrs who gave their lives to protect the tenth Guru\, the festival was observed and mentioned by Guru Amar Das\, the third Guru of Sikhism.
URL:https://rfpeurope.org/calendar/hindu-and-sikh-maghi/
CATEGORIES:Homepage Events
ATTACH;FMTTYPE=image/jpeg:https://rfpeurope.org/wp-content/uploads/2022/01/istockphoto-538322880-612x612-1.jpg
END:VEVENT
BEGIN:VEVENT
DTSTART;TZID=UTC:20220109T080000
DTEND;TZID=UTC:20220109T170000
DTSTAMP:20260423T024426
CREATED:20220102T183346Z
LAST-MODIFIED:20220118T183924Z
UID:742-1641715200-1641747600@rfpeurope.org
SUMMARY:Christian - Baptism of the Lord Jesus
DESCRIPTION:The Feast of the Baptism of the Lord\, or Theophany\, is the feast day commemorating the baptism of Jesus in the Jordan River by John the Baptist. Originally the baptism of Christ was celebrated on Epiphany\, which commemorates the coming of the Magi/Three Kings/Three Wise Men\, the baptism of Christ\, and the wedding at Cana. Over time in the West\, however\, the celebration of the baptism of the Lord came to be commemorated as a distinct feast from Epiphany. It is celebrated in the Catholic Church as well as the Anglican and Lutheran Churches on the first Sunday following The Epiphany.
URL:https://rfpeurope.org/calendar/christian-baptism-of-the-lord-jesus/
CATEGORIES:Homepage Events
ATTACH;FMTTYPE=image/jpeg:https://rfpeurope.org/wp-content/uploads/2022/01/baptismofthelord.jpg
END:VEVENT
BEGIN:VEVENT
DTSTART;TZID=UTC:20220108T070000
DTEND;TZID=UTC:20220108T223000
DTSTAMP:20260423T024426
CREATED:20220102T183000Z
LAST-MODIFIED:20220118T183225Z
UID:738-1641625200-1641681000@rfpeurope.org
SUMMARY:Catholic Christian - The Feast of the Holy Family
DESCRIPTION:The Feast of the Holy Family is a liturgical celebration in the Catholic Church\, as well as in many Lutheran and Anglican churches\, in honour of Jesus\, His mother\, and His step-father\, Saint Joseph\, as a family; it has been observed since 1921 when it was inserted by Pope Benedict XV.
URL:https://rfpeurope.org/calendar/catholic-christian-the-feast-of-the-holy-family/
CATEGORIES:Homepage Events
ATTACH;FMTTYPE=image/jpeg:https://rfpeurope.org/wp-content/uploads/2022/01/13st044c.jpg
END:VEVENT
BEGIN:VEVENT
DTSTART;TZID=UTC:20220107T060000
DTEND;TZID=UTC:20220107T223000
DTSTAMP:20260423T024426
CREATED:20220101T182652Z
LAST-MODIFIED:20220118T182941Z
UID:735-1641535200-1641594600@rfpeurope.org
SUMMARY:Orthodox Christian - Feast of the Nativity
DESCRIPTION:Eastern Orthodox churches celebrate their Christmas on January 7. They typically call this day the Feast of the Nativity. The reason Eastern churches celebrate the Feast of the Nativity on January 7\, is because they still follow the Julian calendar. There is a thirteen day gap between the Julian calendar and the Gregorian calendar\, which Western churches use. \nOn the Feast Day\, some observers cut a branch from a tree and bring it into their home. This symbolizes Jesus entering their home and hearts. People great each other with the traditional greeting of “Christ is born!”\, and respond\, “Glorify Him!” Then\, the bread present at the feast will be torn and shared with everyone. Some families have straw scattered at their table as a reminder of Jesus’ birth in the manger.
URL:https://rfpeurope.org/calendar/orthodox-christian-feast-of-the-nativity/
CATEGORIES:Homepage Events
ATTACH;FMTTYPE=image/jpeg:https://rfpeurope.org/wp-content/uploads/2022/01/nativity-icon.jpg
END:VEVENT
BEGIN:VEVENT
DTSTART;TZID=UTC:20220106T080000
DTEND;TZID=UTC:20220106T220000
DTSTAMP:20260423T024426
CREATED:20220101T182343Z
LAST-MODIFIED:20220118T182451Z
UID:732-1641456000-1641506400@rfpeurope.org
SUMMARY:Christian - Epiphany
DESCRIPTION:Epiphany\, also known as Theophany in Eastern Christian traditions\, is a Christian feast day that celebrates the revelation of God incarnate as Jesus Christ. \nIn Western Christianity\, the feast commemorates principally (but not solely) the visit of the Three Kings or Three Wise men to the Christ Child. The feast of the Epiphany\, in some denominations\, also initiates the liturgical season of Epiphanytide. \nEastern Christians\, on the other hand\, commemorate the baptism of Jesus in the Jordan River\, seen as his manifestation to the world as the Son of God.  \nThe traditional date for the feast is January 6. However\, since 1970\, the celebration is held in some countries on the Sunday after January 1. Those Eastern Churches which are still following the Julian calendar observe the feast on what\, according to the internationally used Gregorian calendar\, is January 19.
URL:https://rfpeurope.org/calendar/christian-epiphany/
CATEGORIES:Homepage Events
ATTACH;FMTTYPE=image/jpeg:https://rfpeurope.org/wp-content/uploads/2022/01/gettyimages-1257416334.jpg
END:VEVENT
BEGIN:VEVENT
DTSTART;TZID=UTC:20220105T003000
DTEND;TZID=UTC:20220106T235900
DTSTAMP:20260423T024426
CREATED:20220101T143247Z
LAST-MODIFIED:20220118T165254Z
UID:723-1641342600-1641513540@rfpeurope.org
SUMMARY:Christian - Twelfth Night
DESCRIPTION:Twelfth Night (also known as Epiphany Eve) is a Christian festival on the last night of the Twelve Days of Christmas\, marking the coming of the Epiphany. Different traditions mark the date of Twelfth Night as either 5 January or 6 January\, depending on whether the counting begins on Christmas Day or 26 December. \nThe Church of England\, celebrates Twelfth Night on the 5th and refers to the night before Epiphany\, the day when the nativity story tells us that the wise men visited the infant Jesus. \n 
URL:https://rfpeurope.org/calendar/christian-twelfth-night/
CATEGORIES:Homepage Events
ATTACH;FMTTYPE=image/jpeg:https://rfpeurope.org/wp-content/uploads/2022/01/photo-epiphany-scaled.jpg
END:VEVENT
BEGIN:VEVENT
DTSTART;VALUE=DATE:20220101
DTEND;VALUE=DATE:20220102
DTSTAMP:20260423T024426
CREATED:20220101T032624Z
LAST-MODIFIED:20220118T164953Z
UID:718-1640995200-1641081599@rfpeurope.org
SUMMARY:Orthodox Christian - Feast Day of St Basil
DESCRIPTION:Saint Basil’s Day is annually celebrated on January 1 in the Eastern Churches\, on January 2 in the Western Churches\, and on January 14 in churches that follow the Julian calendar. It starts with a divine liturgy in honor of the Byzantine bishop of Caesarea\, after a matin service on the morning of the feast. \nIn Greek tradition\, Basil brings gifts to children every January 1 (St Basil’s Day). It is traditional on St Basil’s Day to serve vasilopita\, a rich bread baked with a coin inside.
URL:https://rfpeurope.org/calendar/orthodox-christian-feast-day-of-st-basil/
CATEGORIES:Homepage Events
ATTACH;FMTTYPE=image/jpeg:https://rfpeurope.org/wp-content/uploads/2022/01/36691.p-1.jpg
END:VEVENT
BEGIN:VEVENT
DTSTART;VALUE=DATE:20220101
DTEND;VALUE=DATE:20220102
DTSTAMP:20260423T024426
CREATED:20220101T032018Z
LAST-MODIFIED:20220118T165005Z
UID:713-1640995200-1641081599@rfpeurope.org
SUMMARY:Christian Catholic - The Feast of the Circumcision of Christ
DESCRIPTION:The Feast of the Circumcision of Christ is a Christian celebration of the circumcision of Jesus in accordance with Jewish tradition\, eight days (according to the Semitic and southern European calculation of intervals of days) after his birth\, the occasion on which the child was formally given his name. \nThe circumcision of Jesus has traditionally been seen as the first time the blood of Christ was shed\, and thus the beginning of the process of the redemption of man\, and a demonstration that Christ was fully human\, and of his obedience to Biblical law. \nThe feast day appears on 1 January in the liturgical calendar of the Byzantine Catholic and Eastern Orthodox churches. In the General Roman Calendar\, the 1 January feast\, which from 1568 to 1960 was called “The Circumcision of the Lord and the Octave of the Nativity”\, is now named the Solemnity of Mary\, Mother of God\, and the Octave Day of the Nativity of the Lord. It is celebrated by some churches of the Anglican Communion and virtually all Lutheran churches. In these latter Western Christian denominations\, the Feast of the Naming and Circumcision of Jesus Christ marks the eighth day (octave day) of Christmastide. \n  \nPicture from the Menologion of Basil II
URL:https://rfpeurope.org/calendar/the-feast-of-the-circumcision-of-christ/
CATEGORIES:Homepage Events
ATTACH;FMTTYPE=image/jpeg:https://rfpeurope.org/wp-content/uploads/2022/01/1280px-Menologion_of_Basil_047.jpg
END:VEVENT
BEGIN:VEVENT
DTSTART;VALUE=DATE:20211226
DTEND;VALUE=DATE:20211227
DTSTAMP:20260423T024426
CREATED:20211209T190432Z
LAST-MODIFIED:20211209T190545Z
UID:646-1640476800-1640563199@rfpeurope.org
SUMMARY:Sikh- MARTYRDOM OF SAHIBZADA ZORAWAR SINGH AND SAHIBZADA FATEH SINGH
DESCRIPTION:26 December (Sunday) MARTYRDOM OF SAHIBZADA ZORAWAR SINGH AND SAHIBZADA FATEH SINGH \nThis day commemorates the martyrdom of the two younger sons of Guru Gobind Singh.
URL:https://rfpeurope.org/calendar/sikh-martyrdom-of-sahibzada-zorawar-singh-and-sahibzada-fateh-singh/
CATEGORIES:Homepage Events
ATTACH;FMTTYPE=image/png:https://rfpeurope.org/wp-content/uploads/2021/12/MARTYRDOM-OF-SAHIBZADA-AJIT-SINGH-AND-SAHIBZADA-JUJHAR-SINGH-copy.png
END:VEVENT
BEGIN:VEVENT
DTSTART;VALUE=DATE:20211226
DTEND;VALUE=DATE:20211227
DTSTAMP:20260423T024426
CREATED:20201130T200327Z
LAST-MODIFIED:20211209T190222Z
UID:139-1640476800-1640563199@rfpeurope.org
SUMMARY:Zoroastrian - Zaratosht No Diso
DESCRIPTION:Zaratosht no diso is the death anniversary of Prophet Zarathushtra and is a sorrowful occasion. Tradition records that he was assassinated at the age of 77. It is customary to visit the Fire Temple\, participate in special remembrance prayers and ponder upon the Gathas or Hymns of Zarathushtra\, which embody his eternal message to humanity.
URL:https://rfpeurope.org/calendar/event-3/
CATEGORIES:Homepage Events
ATTACH;FMTTYPE=image/png:https://rfpeurope.org/wp-content/uploads/2020/11/Screenshot-2020-11-30-at-19.42.40.png
END:VEVENT
BEGIN:VEVENT
DTSTART;VALUE=DATE:20211225
DTEND;VALUE=DATE:20211226
DTSTAMP:20260423T024426
CREATED:20201209T162338Z
LAST-MODIFIED:20211209T183947Z
UID:373-1640390400-1640476799@rfpeurope.org
SUMMARY:Christian - Christmas Day
DESCRIPTION:Christmas (or Feast of the Nativity) is an annual festival commemorating the birth of Jesus Christ\, observed primarily on December 25 as a religious and cultural celebration among billions of people around the world. \nGifts are given as reminders of the offerings brought to the infant Jesus\, and Christmas carols\, plays and evergreens are associated with this time\, while nativity sets are displayed in many churches and in some homes.
URL:https://rfpeurope.org/calendar/christian-christmas-day/
CATEGORIES:Homepage Events
ATTACH;FMTTYPE=image/jpeg:https://rfpeurope.org/wp-content/uploads/2020/12/candles-3761431_1920.jpg
END:VEVENT
BEGIN:VEVENT
DTSTART;VALUE=DATE:20211224
DTEND;VALUE=DATE:20211225
DTSTAMP:20260423T024426
CREATED:20201209T160509Z
LAST-MODIFIED:20211209T190046Z
UID:361-1640304000-1640390399@rfpeurope.org
SUMMARY:Christian- Christmas Eve
DESCRIPTION:Christmas Eve is the evening or entire day before Christmas Day\, the festival commemorating the birth of Jesus.
URL:https://rfpeurope.org/calendar/christian-christmas-eve/
CATEGORIES:Homepage Events
ATTACH;FMTTYPE=image/jpeg:https://rfpeurope.org/wp-content/uploads/2020/12/church-1881237_1920.jpg
END:VEVENT
BEGIN:VEVENT
DTSTART;TZID=UTC:20211221T080000
DTEND;TZID=UTC:20211221T170000
DTSTAMP:20260423T024426
CREATED:20211209T183256Z
LAST-MODIFIED:20211209T185958Z
UID:636-1640073600-1640106000@rfpeurope.org
SUMMARY:Sikh - MARTYRDOM OF SAHIBZADA AJIT SINGH AND SAHIBZADA JUJHAR SINGH
DESCRIPTION:21 December (Wednesday) MARTYRDOM OF SAHIBZADA AJIT SINGH AND SAHIBZADA JUJHAR SINGH  \nThis day commemorates the martyrdom of the elder sons of Guru Gobind Singh.
URL:https://rfpeurope.org/calendar/sikh-martyrdom-of-sahibzada-ajit-singh-and-sahibzada-jujhar-singh/
CATEGORIES:Homepage Events
ATTACH;FMTTYPE=image/png:https://rfpeurope.org/wp-content/uploads/2021/12/MARTYRDOM-OF-SAHIBZADA-AJIT-SINGH-AND-SAHIBZADA-JUJHAR-SINGH-copy.png
END:VEVENT
BEGIN:VEVENT
DTSTART;VALUE=DATE:20211219
DTEND;VALUE=DATE:20211227
DTSTAMP:20260423T024426
CREATED:20201201T130701Z
LAST-MODIFIED:20211209T183049Z
UID:136-1639872000-1640563199@rfpeurope.org
SUMMARY:Jewish- Hanukkah
DESCRIPTION:Hanukkah- Jewish\nHanukkah is also known as the Festival of Lights.  It commemorates the rededication of the Second Temple in Jerusalem at the time of the Maccabean Revolt against the Seleucid Empire. \nHanukkah is observed for eight nights and days\, starting on the 25th day of Kislev according to the Hebrew calendar. The festival is observed by lighting the candles of a candelabrum with nine branches\, called a menorah or hanukkiah.
URL:https://rfpeurope.org/calendar/calendar-item-2/
CATEGORIES:Homepage Events
ATTACH;FMTTYPE=image/jpeg:https://rfpeurope.org/wp-content/uploads/2020/12/hanukkah-2197684_1920.jpg
END:VEVENT
BEGIN:VEVENT
DTSTART;VALUE=DATE:20211210
DTEND;VALUE=DATE:20211211
DTSTAMP:20260423T024426
CREATED:20211209T164640Z
LAST-MODIFIED:20211209T184006Z
UID:633-1639094400-1639180799@rfpeurope.org
SUMMARY:UN Human Rights Day
DESCRIPTION:In 1948 The United Nations General Assembly adopted the Universal Declaration of Human Rights: ‘All human beings are born with equal and inalienable rights and fundamental freedoms.’
URL:https://rfpeurope.org/calendar/un-human-rights-day/
CATEGORIES:Homepage Events
ATTACH;FMTTYPE=image/png:https://rfpeurope.org/wp-content/uploads/2021/12/UNLogo.png
END:VEVENT
BEGIN:VEVENT
DTSTART;VALUE=DATE:20211208
DTEND;VALUE=DATE:20211209
DTSTAMP:20260423T024426
CREATED:20201203T114320Z
LAST-MODIFIED:20211209T185813Z
UID:230-1638921600-1639007999@rfpeurope.org
SUMMARY:Buddhist - Bodhi Day
DESCRIPTION:Bodhi Day is the Buddhist holiday that commemorates the day that the historical Buddha\, Siddhartha Gautama\, experienced enlightenment\, also known as bodhi in Sanskrit and Pali. \nSome Buddhists (eg Pure Land followers) celebrate Gautama’s attainment of Enlightenment on this day under the Bodhi tree in Bodhgaya\, North India.
URL:https://rfpeurope.org/calendar/festival-test/
CATEGORIES:Homepage Events
ATTACH;FMTTYPE=image/jpeg:https://rfpeurope.org/wp-content/uploads/2020/12/buddha-199462_1920.jpg
END:VEVENT
BEGIN:VEVENT
DTSTART;VALUE=DATE:20211208
DTEND;VALUE=DATE:20211209
DTSTAMP:20260423T024426
CREATED:20201130T162726Z
LAST-MODIFIED:20211209T182920Z
UID:124-1638921600-1639007999@rfpeurope.org
SUMMARY:Roman Catholic Christian - Immaculate Conception of Mary
DESCRIPTION:This day celebrates the doctrine\, held mainly by Roman Catholics\, that Mary herself was born free from Original Sin\, leaving her sinless for the conception and bearing of Jesus.
URL:https://rfpeurope.org/calendar/event-number-1/
CATEGORIES:Homepage Events
ATTACH;FMTTYPE=image/jpeg:https://rfpeurope.org/wp-content/uploads/2020/11/church-3599448_1920.jpg
END:VEVENT
END:VCALENDAR