BEGIN:VCALENDAR
VERSION:2.0
PRODID:-//Religions for Peace Europe - ECPv6.15.17.1//NONSGML v1.0//EN
CALSCALE:GREGORIAN
METHOD:PUBLISH
X-WR-CALNAME:Religions for Peace Europe
X-ORIGINAL-URL:https://rfpeurope.org
X-WR-CALDESC:Events for Religions for Peace Europe
REFRESH-INTERVAL;VALUE=DURATION:PT1H
X-Robots-Tag:noindex
X-PUBLISHED-TTL:PT1H
BEGIN:VTIMEZONE
TZID:UTC
BEGIN:STANDARD
TZOFFSETFROM:+0000
TZOFFSETTO:+0000
TZNAME:UTC
DTSTART:20190101T000000
END:STANDARD
END:VTIMEZONE
BEGIN:VEVENT
DTSTART;VALUE=DATE:20201221
DTEND;VALUE=DATE:20201222
DTSTAMP:20260423T065917
CREATED:20201209T155959Z
LAST-MODIFIED:20201209T160847Z
UID:357-1608508800-1608595199@rfpeurope.org
SUMMARY:Christian - Yule
DESCRIPTION:Yule is the time of the winter solstice\, when the sun is reborn\, an image of the return of all new life. Heathens celebrate Yule for twelve nights and days\, starting the evening before the Winter Solstice (called Mother’s night)\, when they think of their female ancestors and spiritual protectors. The night heralds the beginning of the major holiday in Heathenry.
URL:https://rfpeurope.org/calendar/christian-yule/
ATTACH;FMTTYPE=image/jpeg:https://rfpeurope.org/wp-content/uploads/2020/12/candle-3133631_1920.jpg
END:VEVENT
BEGIN:VEVENT
DTSTART;VALUE=DATE:20201212
DTEND;VALUE=DATE:20201213
DTSTAMP:20260423T065917
CREATED:20201209T153144Z
LAST-MODIFIED:20201209T153434Z
UID:346-1607731200-1607817599@rfpeurope.org
SUMMARY:Roman Catholic Christian - Feast day - Our Lady of Guadalupe
DESCRIPTION:The feast day of Our Lady of Guadalupe\, also known as the Virgin of Guadalupe\, is celebrated on December 12. For Mexicans and Mexican-Americans as well as other Latinos\, Our Lady of Guadalupe is a powerful symbol of devotion\, identity\, and patriotism.
URL:https://rfpeurope.org/calendar/feast-day-our-lady-of-guadalupe-catholic-christian/
ATTACH;FMTTYPE=image/jpeg:https://rfpeurope.org/wp-content/uploads/2020/12/church-3284639_1920.jpg
END:VEVENT
END:VCALENDAR